BEGIN:VCALENDAR
VERSION:2.0
PRODID:-//msdltf.org//NONSGML kigkonsult.se iCalcreator 2.30.10//
CALSCALE:GREGORIAN
METHOD:PUBLISH
UID:eef73319-bd1d-4a73-a736-d2672717042e
X-WR-CALDESC:Make an Impact in Your Community: Join the LTSF Board of Direc
 tors \n\nAre you passionate about education and community impact? The Lawr
 ence Township School Foundation (LTSF) invites you to learn more about ser
 ving as a Board Member or Committee Volunteer.\n\nLTSF Board members play 
 a vital role in supporting innovative programs\, expanding educational opp
 ortunities\, and strengthening community engagement across Lawrence Townsh
 ip Schools. Whether your interests lie in development\, finance\, programs
 \, scholarships\, grants\, or special events\, there’s a meaningful way fo
 r you to get involved.\n\nJoin us for an upcoming Board Information Sessio
 n to learn more about LTSF’s mission\, board expectations\, committee oppo
 rtunities\, and the application process.\n\nBoard Information Session\n📅Fe
 bruary 25\, 2026\n📍LECC | 5720 Wheeler Road | Indianapolis\, IN 46216\n🚪Pa
 rk & enter through Door 1\n🕕6:00 – 7:00 PM\n\nApplications to join the Boa
 rd are due April 8.\n\n👉RSVP to: Misty Wick Johnston\, President & CEO at 
 mistywickjohnston@msdlt.k12.in.us \n\nLearn more: www.msdltf.org
X-WR-RELCALID:f1e6f57aa3752f466b882cadd862a19c
X-WR-TIMEZONE:America/New_York
BEGIN:VTIMEZONE
TZID:America/New_York
BEGIN:STANDARD
TZNAME:EST
DTSTART:20251102T020000
TZOFFSETFROM:-0400
TZOFFSETTO:-0500
RDATE:20261101T020000
END:STANDARD
BEGIN:DAYLIGHT
TZNAME:EDT
DTSTART:20250309T020000
TZOFFSETFROM:-0500
TZOFFSETTO:-0400
RDATE:20260308T020000
RDATE:20270314T020000
END:DAYLIGHT
END:VTIMEZONE
BEGIN:VEVENT
UID:c1510f28-8915-4826-84dd-594f783c3fe8
DTSTAMP:20260423T061553Z
DESCRIPTION:Make an Impact in Your Community: Join the LTSF Board of Direct
 ors \n\nAre you passionate about education and community impact? The Lawre
 nce Township School Foundation (LTSF) invites you to learn more about serv
 ing as a Board Member or Committee Volunteer.\n\nLTSF Board members play a
  vital role in supporting innovative programs\, expanding educational oppo
 rtunities\, and strengthening community engagement across Lawrence Townshi
 p Schools. Whether your interests lie in development\, finance\, programs\
 , scholarships\, grants\, or special events\, there’s a meaningful way for
  you to get involved.\n\nJoin us for an upcoming Board Information Session
  to learn more about LTSF’s mission\, board expectations\, committee oppor
 tunities\, and the application process.\n\nBoard Information Session\n📅Feb
 ruary 25\, 2026\n📍LECC | 5720 Wheeler Road | Indianapolis\, IN 46216\n🚪Par
 k & enter through Door 1\n🕕6:00 – 7:00 PM\n\nApplications to join the Boar
 d are due April 8.\n\n👉RSVP to: Misty Wick Johnston\, President & CEO at m
 istywickjohnston@msdlt.k12.in.us \n\nLearn more: www.msdltf.org
DTSTART;TZID=America/New_York:20260225T180000
DTEND;TZID=America/New_York:20260225T190000
LOCATION:5720 Wheeler Road\, Indianapolis\, IN 46216 US
SUMMARY:LTSF Board of Directors Information Session
END:VEVENT
END:VCALENDAR
