BEGIN:VCALENDAR
VERSION:2.0
PRODID:-//msdltf.org//NONSGML kigkonsult.se iCalcreator 2.30.10//
CALSCALE:GREGORIAN
METHOD:PUBLISH
UID:c8046ffb-a81b-4b13-bdd2-7dfd46ffe37a
X-WR-CALDESC:Event Details:\nFriday\, March 20\, 2026\n\n6:30-11:30 PM EST 
 | Cocktail Attire\n\nBiltwell Event Center \n950 S. White River Parkway We
 st Dr.\nIndianapolis\, IN 46221
X-WR-RELCALID:5a13d66df66f7ce1d0880a9bbd3437cb
X-WR-TIMEZONE:America/New_York
BEGIN:VTIMEZONE
TZID:America/New_York
BEGIN:STANDARD
TZNAME:EST
DTSTART:20251102T020000
TZOFFSETFROM:-0400
TZOFFSETTO:-0500
RDATE:20261101T020000
END:STANDARD
BEGIN:DAYLIGHT
TZNAME:EDT
DTSTART:20260308T020000
TZOFFSETFROM:-0500
TZOFFSETTO:-0400
RDATE:20270314T020000
END:DAYLIGHT
END:VTIMEZONE
BEGIN:VEVENT
UID:a03ad813-a1e8-4dfb-930d-8459a77f2118
DTSTAMP:20260423T061312Z
DESCRIPTION:Event Details:\nFriday\, March 20\, 2026\n\n6:30-11:30 PM EST |
  Cocktail Attire\n\nBiltwell Event Center \n950 S. White River Parkway Wes
 t Dr.\nIndianapolis\, IN 46221
DTSTART;TZID=America/New_York:20260320T060000
DTEND;TZID=America/New_York:20260320T060001
LOCATION:950 S White River Parkway West Dr. \, Indianapolis\, IN 46221 US
SUMMARY:LTSF Celebration Gala
END:VEVENT
END:VCALENDAR
